Workbook

Sheet Start Here
B2: Referral Partner Scorecard
B3: Build, track and review a 20-person referral network. Free from Vertica CRM.
B5: How to use this workbook
B6: 1. Candidates: list up to 40 professionals who advise business owners. Score each 1 to 5 on two questions. The sheet ranks them and marks your top 20.
B7: 2. Scorecard: copy your top 20 partners here. Through the year, record meetings, introductions, valuations, listings and fees. Conversion rates and a ranking calculate automatically.
B8: 3. Meeting Planner: plan five meetings a month (60 a year, about three per partner). Pick partners from the drop-down list.
B9: 4. Annual Review: once a year, see your top 10 to keep, the 10 to move to lighter contact, and the next 10 names from your candidate list.
B11: Legend
B12: Light yellow cells with blue text are for you to fill in. White cells with black text calculate automatically, so please don't type over them.
B13: Row 1 on the Candidates and Scorecard sheets is an example. Replace it with your own information.
B14: Ranking on the Scorecard: by fees closed, then listings signed, then introductions.
B16: More help
... B19: Run this system automatically in Vertica CRM, with every introduction linked to the partner who sent it: https://businessbrokerscrm.com/

Sheet Candidates
A1: Candidate list: 40 names
A2: Score each candidate 1 (low) to 5 (high). Score = owner clients x 2 + relationship, because you can build a relationship but not an advisor's client list.
A4: # | B4: Name | C4: Firm | D4: Partner type | E4: Owner clients in your market (1-5) | F4: Relationship today (1-5) | G4: Score | H4: Rank | I4: Pick for your 20? | J4: Notes
A5: 1 | B5: Example: Dana Lee | C5: Lee & Partners CPAs | D5: CPA / accountant | E5: 5 | F5: 3 | G5: =IF(COUNT(E5:F5)=2,E5*2+F5,"") -> 13 | H5: =IF(G5="","",COUNTIF($G$5:$G$44,">"&G5)+1+COUNTIF($G$5:G5,G5)-1) -> 1 | I5: =IF(H5="","",IF(H5<=20,"Yes","")) -> Yes | J5: Sent me two clients last year
A6: 2 | G6: =IF(COUNT(E6:F6)=2,E6*2+F6,"") | H6: =IF(G6="","",COUNTIF($G$5:$G$44,">"&G6)+1+COUNTIF($G$5:G6,G6)-1) | I6: =IF(H6="","",IF(H6<=20,"Yes",""))
A7: 3 | G7: =IF(COUNT(E7:F7)=2,E7*2+F7,"") | H7: =IF(G7="","",COUNTIF($G$5:$G$44,">"&G7)+1+COUNTIF($G$5:G7,G7)-1) | I7: =IF(H7="","",IF(H7<=20,"Yes",""))
A8: 4 | G8: =IF(COUNT(E8:F8)=2,E8*2+F8,"") | H8: =IF(G8="","",COUNTIF($G$5:$G$44,">"&G8)+1+COUNTIF($G$5:G8,G8)-1) | I8: =IF(H8="","",IF(H8<=20,"Yes",""))
A9: 5 | G9: =IF(COUNT(E9:F9)=2,E9*2+F9,"") | H9: =IF(G9="","",COUNTIF($G$5:$G$44,">"&G9)+1+COUNTIF($G$5:G9,G9)-1) | I9: =IF(H9="","",IF(H9<=20,"Yes",""))
A10: 6 | G10: =IF(COUNT(E10:F10)=2,E10*2+F10,"") | H10: =IF(G10="","",COUNTIF($G$5:$G$44,">"&G10)+1+COUNTIF($G$5:G10,G10)-1) | I10: =IF(H10="","",IF(H10<=20,"Yes",""))
A11: 7 | G11: =IF(COUNT(E11:F11)=2,E11*2+F11,"") | H11: =IF(G11="","",COUNTIF($G$5:$G$44,">"&G11)+1+COUNTIF($G$5:G11,G11)-1) | I11: =IF(H11="","",IF(H11<=20,"Yes",""))
A12: 8 | G12: =IF(COUNT(E12:F12)=2,E12*2+F12,"") | H12: =IF(G12="","",COUNTIF($G$5:$G$44,">"&G12)+1+COUNTIF($G$5:G12,G12)-1) | I12: =IF(H12="","",IF(H12<=20,"Yes",""))
A13: 9 | G13: =IF(COUNT(E13:F13)=2,E13*2+F13,"") | H13: =IF(G13="","",COUNTIF($G$5:$G$44,">"&G13)+1+COUNTIF($G$5:G13,G13)-1) | I13: =IF(H13="","",IF(H13<=20,"Yes",""))
A14: 10 | G14: =IF(COUNT(E14:F14)=2,E14*2+F14,"") | H14: =IF(G14="","",COUNTIF($G$5:$G$44,">"&G14)+1+COUNTIF($G$5:G14,G14)-1) | I14: =IF(H14="","",IF(H14<=20,"Yes",""))
A15: 11 | G15: =IF(COUNT(E15:F15)=2,E15*2+F15,"") | H15: =IF(G15="","",COUNTIF($G$5:$G$44,">"&G15)+1+COUNTIF($G$5:G15,G15)-1) | I15: =IF(H15="","",IF(H15<=20,"Yes",""))
A16: 12 | G16: =IF(COUNT(E16:F16)=2,E16*2+F16,"") | H16: =IF(G16="","",COUNTIF($G$5:$G$44,">"&G16)+1+COUNTIF($G$5:G16,G16)-1) | I16: =IF(H16="","",IF(H16<=20,"Yes",""))
A17: 13 | G17: =IF(COUNT(E17:F17)=2,E17*2+F17,"") | H17: =IF(G17="","",COUNTIF($G$5:$G$44,">"&G17)+1+COUNTIF($G$5:G17,G17)-1) | I17: =IF(H17="","",IF(H17<=20,"Yes",""))
... A44: 40 | G44: =IF(COUNT(E44:F44)=2,E44*2+F44,"") | H44: =IF(G44="","",COUNTIF($G$5:$G$44,">"&G44)+1+COUNTIF($G$5:G44,G44)-1) | I44: =IF(H44="","",IF(H44<=20,"Yes",""))

Sheet Scorecard
A1: Partner scorecard: your 20
A2: Record activity through the year. Totals, conversion and ranking calculate automatically.
A4: # | B4: Partner | C4: Firm | D4: Partner type | E4: Meetings Q1 | F4: Meetings Q2 | G4: Meetings Q3 | H4: Meetings Q4 | I4: Meetings total | J4: Introductions | K4: Valuations | L4: Listings signed | M4: Fees closed ($) | N4: Intro to listing % | O4: Last meeting | P4: Next meeting | Q4: Rank | R4: Annual review decision | S4: Rank key (hidden helper)
A5: 1 | B5: Example: Dana Lee | C5: Lee & Partners CPAs | D5: CPA / accountant | E5: 1 | F5: 1 | G5: 1 | H5: 1 | I5: =IF(B5="","",SUM(E5:H5)) -> 4 | J5: 6 | K5: 3 | L5: 2 | M5: 148000 | N5: =IF(OR(B5="",N(J5)=0),"",L5/J5) -> 0.33333333 | O5: 46280 | P5: 46366 | Q5: =IF(B5="","",COUNTIF($S$5:$S$24,">"&S5)+COUNTIF($S$5:S5,S5)) -> 1 | R5: =IF(Q5="","",IF(Q5<=10,"Keep: top 10","Lighter contact")) -> Keep: top 10 | S5: =IF(B5="","",N(M5)+N(L5)/1000+N(J5)/1000000) -> 148000
A6: 2 | I6: =IF(B6="","",SUM(E6:H6)) | N6: =IF(OR(B6="",N(J6)=0),"",L6/J6) | Q6: =IF(B6="","",COUNTIF($S$5:$S$24,">"&S6)+COUNTIF($S$5:S6,S6)) | R6: =IF(Q6="","",IF(Q6<=10,"Keep: top 10","Lighter contact")) | S6: =IF(B6="","",N(M6)+N(L6)/1000+N(J6)/1000000)
A7: 3 | I7: =IF(B7="","",SUM(E7:H7)) | N7: =IF(OR(B7="",N(J7)=0),"",L7/J7) | Q7: =IF(B7="","",COUNTIF($S$5:$S$24,">"&S7)+COUNTIF($S$5:S7,S7)) | R7: =IF(Q7="","",IF(Q7<=10,"Keep: top 10","Lighter contact")) | S7: =IF(B7="","",N(M7)+N(L7)/1000+N(J7)/1000000)
A8: 4 | I8: =IF(B8="","",SUM(E8:H8)) | N8: =IF(OR(B8="",N(J8)=0),"",L8/J8) | Q8: =IF(B8="","",COUNTIF($S$5:$S$24,">"&S8)+COUNTIF($S$5:S8,S8)) | R8: =IF(Q8="","",IF(Q8<=10,"Keep: top 10","Lighter contact")) | S8: =IF(B8="","",N(M8)+N(L8)/1000+N(J8)/1000000)
A9: 5 | I9: =IF(B9="","",SUM(E9:H9)) | N9: =IF(OR(B9="",N(J9)=0),"",L9/J9) | Q9: =IF(B9="","",COUNTIF($S$5:$S$24,">"&S9)+COUNTIF($S$5:S9,S9)) | R9: =IF(Q9="","",IF(Q9<=10,"Keep: top 10","Lighter contact")) | S9: =IF(B9="","",N(M9)+N(L9)/1000+N(J9)/1000000)
A10: 6 | I10: =IF(B10="","",SUM(E10:H10)) | N10: =IF(OR(B10="",N(J10)=0),"",L10/J10) | Q10: =IF(B10="","",COUNTIF($S$5:$S$24,">"&S10)+COUNTIF($S$5:S10,S10)) | R10: =IF(Q10="","",IF(Q10<=10,"Keep: top 10","Lighter contact")) | S10: =IF(B10="","",N(M10)+N(L10)/1000+N(J10)/1000000)
A11: 7 | I11: =IF(B11="","",SUM(E11:H11)) | N11: =IF(OR(B11="",N(J11)=0),"",L11/J11) | Q11: =IF(B11="","",COUNTIF($S$5:$S$24,">"&S11)+COUNTIF($S$5:S11,S11)) | R11: =IF(Q11="","",IF(Q11<=10,"Keep: top 10","Lighter contact")) | S11: =IF(B11="","",N(M11)+N(L11)/1000+N(J11)/1000000)
A12: 8 | I12: =IF(B12="","",SUM(E12:H12)) | N12: =IF(OR(B12="",N(J12)=0),"",L12/J12) | Q12: =IF(B12="","",COUNTIF($S$5:$S$24,">"&S12)+COUNTIF($S$5:S12,S12)) | R12: =IF(Q12="","",IF(Q12<=10,"Keep: top 10","Lighter contact")) | S12: =IF(B12="","",N(M12)+N(L12)/1000+N(J12)/1000000)
A13: 9 | I13: =IF(B13="","",SUM(E13:H13)) | N13: =IF(OR(B13="",N(J13)=0),"",L13/J13) | Q13: =IF(B13="","",COUNTIF($S$5:$S$24,">"&S13)+COUNTIF($S$5:S13,S13)) | R13: =IF(Q13="","",IF(Q13<=10,"Keep: top 10","Lighter contact")) | S13: =IF(B13="","",N(M13)+N(L13)/1000+N(J13)/1000000)
A14: 10 | I14: =IF(B14="","",SUM(E14:H14)) | N14: =IF(OR(B14="",N(J14)=0),"",L14/J14) | Q14: =IF(B14="","",COUNTIF($S$5:$S$24,">"&S14)+COUNTIF($S$5:S14,S14)) | R14: =IF(Q14="","",IF(Q14<=10,"Keep: top 10","Lighter contact")) | S14: =IF(B14="","",N(M14)+N(L14)/1000+N(J14)/1000000)
A15: 11 | I15: =IF(B15="","",SUM(E15:H15)) | N15: =IF(OR(B15="",N(J15)=0),"",L15/J15) | Q15: =IF(B15="","",COUNTIF($S$5:$S$24,">"&S15)+COUNTIF($S$5:S15,S15)) | R15: =IF(Q15="","",IF(Q15<=10,"Keep: top 10","Lighter contact")) | S15: =IF(B15="","",N(M15)+N(L15)/1000+N(J15)/1000000)
A16: 12 | I16: =IF(B16="","",SUM(E16:H16)) | N16: =IF(OR(B16="",N(J16)=0),"",L16/J16) | Q16: =IF(B16="","",COUNTIF($S$5:$S$24,">"&S16)+COUNTIF($S$5:S16,S16)) | R16: =IF(Q16="","",IF(Q16<=10,"Keep: top 10","Lighter contact")) | S16: =IF(B16="","",N(M16)+N(L16)/1000+N(J16)/1000000)
A17: 13 | I17: =IF(B17="","",SUM(E17:H17)) | N17: =IF(OR(B17="",N(J17)=0),"",L17/J17) | Q17: =IF(B17="","",COUNTIF($S$5:$S$24,">"&S17)+COUNTIF($S$5:S17,S17)) | R17: =IF(Q17="","",IF(Q17<=10,"Keep: top 10","Lighter contact")) | S17: =IF(B17="","",N(M17)+N(L17)/1000+N(J17)/1000000)
... A24: 20 | I24: =IF(B24="","",SUM(E24:H24)) | N24: =IF(OR(B24="",N(J24)=0),"",L24/J24) | Q24: =IF(B24="","",COUNTIF($S$5:$S$24,">"&S24)+COUNTIF($S$5:S24,S24)) | R24: =IF(Q24="","",IF(Q24<=10,"Keep: top 10","Lighter contact")) | S24: =IF(B24="","",N(M24)+N(L24)/1000+N(J24)/1000000)
B25: Totals | I25: =SUM(I5:I24) -> 4 | J25: =SUM(J5:J24) -> 6 | K25: =SUM(K5:K24) -> 3 | L25: =SUM(L5:L24) -> 2 | M25: =SUM(M5:M24) -> 148000 | N25: =IF(J25=0,"",L25/J25) -> 0.33333333

Sheet Meeting Planner
A1: Meeting planner: five a month
A2: Pick a partner for each slot from the drop-down list (it reads the names on your Scorecard). Mark Done with an x.
A4: Month | B4: Meeting 1 | C4: Done | D4: Meeting 2 | E4: Done | F4: Meeting 3 | G4: Done | H4: Meeting 4 | I4: Done | J4: Meeting 5 | K4: Done | L4: Done this month
A5: January | L5: =COUNTA(C5,E5,G5,I5,K5) -> 0
A6: February | L6: =COUNTA(C6,E6,G6,I6,K6) -> 0
A7: March | L7: =COUNTA(C7,E7,G7,I7,K7) -> 0
A8: April | L8: =COUNTA(C8,E8,G8,I8,K8) -> 0
A9: May | L9: =COUNTA(C9,E9,G9,I9,K9) -> 0
A10: June | L10: =COUNTA(C10,E10,G10,I10,K10) -> 0
A11: July | L11: =COUNTA(C11,E11,G11,I11,K11) -> 0
A12: August | L12: =COUNTA(C12,E12,G12,I12,K12) -> 0
A13: September | L13: =COUNTA(C13,E13,G13,I13,K13) -> 0
A14: October | L14: =COUNTA(C14,E14,G14,I14,K14) -> 0
A15: November | L15: =COUNTA(C15,E15,G15,I15,K15) -> 0
A16: December | L16: =COUNTA(C16,E16,G16,I16,K16) -> 0
A17: Year | L17: =SUM(L5:L16) -> 0
A18: Goal | L18: 60

Sheet Annual Review
A1: Annual review
A2: Fills in automatically from the Scorecard and Candidates sheets.
A4: Keep: your top 10 (protect the meeting rhythm with these partners)
A5: Rank | B5: Partner | C5: Partner type | D5: Introductions | E5: Listings | F5: Fees closed ($)
A6: 1 | B6: =IFERROR(INDEX(Scorecard!$B$5:$B$24,MATCH($A6,Scorecard!$Q$5:$Q$24,0))&"","") -> Example: Dana Lee | C6: =IFERROR(INDEX(Scorecard!$D$5:$D$24,MATCH($A6,Scorecard!$Q$5:$Q$24,0))&"","") -> CPA / accountant | D6: =IFERROR(INDEX(Scorecard!$J$5:$J$24,MATCH($A6,Scorecard!$Q$5:$Q$24,0)),"") -> 6 | E6: =IFERROR(INDEX(Scorecard!$L$5:$L$24,MATCH($A6,Scorecard!$Q$5:$Q$24,0)),"") -> 2 | F6: =IFERROR(INDEX(Scorecard!$M$5:$M$24,MATCH($A6,Scorecard!$Q$5:$Q$24,0)),"") -> 148000
A7: 2 | B7: =IFERROR(INDEX(Scorecard!$B$5:$B$24,MATCH($A7,Scorecard!$Q$5:$Q$24,0))&"","") | C7: =IFERROR(INDEX(Scorecard!$D$5:$D$24,MATCH($A7,Scorecard!$Q$5:$Q$24,0))&"","") | D7: =IFERROR(INDEX(Scorecard!$J$5:$J$24,MATCH($A7,Scorecard!$Q$5:$Q$24,0)),"") | E7: =IFERROR(INDEX(Scorecard!$L$5:$L$24,MATCH($A7,Scorecard!$Q$5:$Q$24,0)),"") | F7: =IFERROR(INDEX(Scorecard!$M$5:$M$24,MATCH($A7,Scorecard!$Q$5:$Q$24,0)),"")
A8: 3 | B8: =IFERROR(INDEX(Scorecard!$B$5:$B$24,MATCH($A8,Scorecard!$Q$5:$Q$24,0))&"","") | C8: =IFERROR(INDEX(Scorecard!$D$5:$D$24,MATCH($A8,Scorecard!$Q$5:$Q$24,0))&"","") | D8: =IFERROR(INDEX(Scorecard!$J$5:$J$24,MATCH($A8,Scorecard!$Q$5:$Q$24,0)),"") | E8: =IFERROR(INDEX(Scorecard!$L$5:$L$24,MATCH($A8,Scorecard!$Q$5:$Q$24,0)),"") | F8: =IFERROR(INDEX(Scorecard!$M$5:$M$24,MATCH($A8,Scorecard!$Q$5:$Q$24,0)),"")
A9: 4 | B9: =IFERROR(INDEX(Scorecard!$B$5:$B$24,MATCH($A9,Scorecard!$Q$5:$Q$24,0))&"","") | C9: =IFERROR(INDEX(Scorecard!$D$5:$D$24,MATCH($A9,Scorecard!$Q$5:$Q$24,0))&"","") | D9: =IFERROR(INDEX(Scorecard!$J$5:$J$24,MATCH($A9,Scorecard!$Q$5:$Q$24,0)),"") | E9: =IFERROR(INDEX(Scorecard!$L$5:$L$24,MATCH($A9,Scorecard!$Q$5:$Q$24,0)),"") | F9: =IFERROR(INDEX(Scorecard!$M$5:$M$24,MATCH($A9,Scorecard!$Q$5:$Q$24,0)),"")
A10: 5 | B10: =IFERROR(INDEX(Scorecard!$B$5:$B$24,MATCH($A10,Scorecard!$Q$5:$Q$24,0))&"","") | C10: =IFERROR(INDEX(Scorecard!$D$5:$D$24,MATCH($A10,Scorecard!$Q$5:$Q$24,0))&"","") | D10: =IFERROR(INDEX(Scorecard!$J$5:$J$24,MATCH($A10,Scorecard!$Q$5:$Q$24,0)),"") | E10: =IFERROR(INDEX(Scorecard!$L$5:$L$24,MATCH($A10,Scorecard!$Q$5:$Q$24,0)),"") | F10: =IFERROR(INDEX(Scorecard!$M$5:$M$24,MATCH($A10,Scorecard!$Q$5:$Q$24,0)),"")
A11: 6 | B11: =IFERROR(INDEX(Scorecard!$B$5:$B$24,MATCH($A11,Scorecard!$Q$5:$Q$24,0))&"","") | C11: =IFERROR(INDEX(Scorecard!$D$5:$D$24,MATCH($A11,Scorecard!$Q$5:$Q$24,0))&"","") | D11: =IFERROR(INDEX(Scorecard!$J$5:$J$24,MATCH($A11,Scorecard!$Q$5:$Q$24,0)),"") | E11: =IFERROR(INDEX(Scorecard!$L$5:$L$24,MATCH($A11,Scorecard!$Q$5:$Q$24,0)),"") | F11: =IFERROR(INDEX(Scorecard!$M$5:$M$24,MATCH($A11,Scorecard!$Q$5:$Q$24,0)),"")
A12: 7 | B12: =IFERROR(INDEX(Scorecard!$B$5:$B$24,MATCH($A12,Scorecard!$Q$5:$Q$24,0))&"","") | C12: =IFERROR(INDEX(Scorecard!$D$5:$D$24,MATCH($A12,Scorecard!$Q$5:$Q$24,0))&"","") | D12: =IFERROR(INDEX(Scorecard!$J$5:$J$24,MATCH($A12,Scorecard!$Q$5:$Q$24,0)),"") | E12: =IFERROR(INDEX(Scorecard!$L$5:$L$24,MATCH($A12,Scorecard!$Q$5:$Q$24,0)),"") | F12: =IFERROR(INDEX(Scorecard!$M$5:$M$24,MATCH($A12,Scorecard!$Q$5:$Q$24,0)),"")
A13: 8 | B13: =IFERROR(INDEX(Scorecard!$B$5:$B$24,MATCH($A13,Scorecard!$Q$5:$Q$24,0))&"","") | C13: =IFERROR(INDEX(Scorecard!$D$5:$D$24,MATCH($A13,Scorecard!$Q$5:$Q$24,0))&"","") | D13: =IFERROR(INDEX(Scorecard!$J$5:$J$24,MATCH($A13,Scorecard!$Q$5:$Q$24,0)),"") | E13: =IFERROR(INDEX(Scorecard!$L$5:$L$24,MATCH($A13,Scorecard!$Q$5:$Q$24,0)),"") | F13: =IFERROR(INDEX(Scorecard!$M$5:$M$24,MATCH($A13,Scorecard!$Q$5:$Q$24,0)),"")
A14: 9 | B14: =IFERROR(INDEX(Scorecard!$B$5:$B$24,MATCH($A14,Scorecard!$Q$5:$Q$24,0))&"","") | C14: =IFERROR(INDEX(Scorecard!$D$5:$D$24,MATCH($A14,Scorecard!$Q$5:$Q$24,0))&"","") | D14: =IFERROR(INDEX(Scorecard!$J$5:$J$24,MATCH($A14,Scorecard!$Q$5:$Q$24,0)),"") | E14: =IFERROR(INDEX(Scorecard!$L$5:$L$24,MATCH($A14,Scorecard!$Q$5:$Q$24,0)),"") | F14: =IFERROR(INDEX(Scorecard!$M$5:$M$24,MATCH($A14,Scorecard!$Q$5:$Q$24,0)),"")
A15: 10 | B15: =IFERROR(INDEX(Scorecard!$B$5:$B$24,MATCH($A15,Scorecard!$Q$5:$Q$24,0))&"","") | C15: =IFERROR(INDEX(Scorecard!$D$5:$D$24,MATCH($A15,Scorecard!$Q$5:$Q$24,0))&"","") | D15: =IFERROR(INDEX(Scorecard!$J$5:$J$24,MATCH($A15,Scorecard!$Q$5:$Q$24,0)),"") | E15: =IFERROR(INDEX(Scorecard!$L$5:$L$24,MATCH($A15,Scorecard!$Q$5:$Q$24,0)),"") | F15: =IFERROR(INDEX(Scorecard!$M$5:$M$24,MATCH($A15,Scorecard!$Q$5:$Q$24,0)),"")
A17: Move to lighter contact (quarterly update and an occasional call)
A18: Rank | B18: Partner | C18: Partner type | D18: Introductions | E18: Listings | F18: Fees closed ($)
A19: 11 | B19: =IFERROR(INDEX(Scorecard!$B$5:$B$24,MATCH($A19,Scorecard!$Q$5:$Q$24,0))&"","") | C19: =IFERROR(INDEX(Scorecard!$D$5:$D$24,MATCH($A19,Scorecard!$Q$5:$Q$24,0))&"","") | D19: =IFERROR(INDEX(Scorecard!$J$5:$J$24,MATCH($A19,Scorecard!$Q$5:$Q$24,0)),"") | E19: =IFERROR(INDEX(Scorecard!$L$5:$L$24,MATCH($A19,Scorecard!$Q$5:$Q$24,0)),"") | F19: =IFERROR(INDEX(Scorecard!$M$5:$M$24,MATCH($A19,Scorecard!$Q$5:$Q$24,0)),"")
A20: 12 | B20: =IFERROR(INDEX(Scorecard!$B$5:$B$24,MATCH($A20,Scorecard!$Q$5:$Q$24,0))&"","") | C20: =IFERROR(INDEX(Scorecard!$D$5:$D$24,MATCH($A20,Scorecard!$Q$5:$Q$24,0))&"","") | D20: =IFERROR(INDEX(Scorecard!$J$5:$J$24,MATCH($A20,Scorecard!$Q$5:$Q$24,0)),"") | E20: =IFERROR(INDEX(Scorecard!$L$5:$L$24,MATCH($A20,Scorecard!$Q$5:$Q$24,0)),"") | F20: =IFERROR(INDEX(Scorecard!$M$5:$M$24,MATCH($A20,Scorecard!$Q$5:$Q$24,0)),"")
A21: 13 | B21: =IFERROR(INDEX(Scorecard!$B$5:$B$24,MATCH($A21,Scorecard!$Q$5:$Q$24,0))&"","") | C21: =IFERROR(INDEX(Scorecard!$D$5:$D$24,MATCH($A21,Scorecard!$Q$5:$Q$24,0))&"","") | D21: =IFERROR(INDEX(Scorecard!$J$5:$J$24,MATCH($A21,Scorecard!$Q$5:$Q$24,0)),"") | E21: =IFERROR(INDEX(Scorecard!$L$5:$L$24,MATCH($A21,Scorecard!$Q$5:$Q$24,0)),"") | F21: =IFERROR(INDEX(Scorecard!$M$5:$M$24,MATCH($A21,Scorecard!$Q$5:$Q$24,0)),"")
A22: 14 | B22: =IFERROR(INDEX(Scorecard!$B$5:$B$24,MATCH($A22,Scorecard!$Q$5:$Q$24,0))&"","") | C22: =IFERROR(INDEX(Scorecard!$D$5:$D$24,MATCH($A22,Scorecard!$Q$5:$Q$24,0))&"","") | D22: =IFERROR(INDEX(Scorecard!$J$5:$J$24,MATCH($A22,Scorecard!$Q$5:$Q$24,0)),"") | E22: =IFERROR(INDEX(Scorecard!$L$5:$L$24,MATCH($A22,Scorecard!$Q$5:$Q$24,0)),"") | F22: =IFERROR(INDEX(Scorecard!$M$5:$M$24,MATCH($A22,Scorecard!$Q$5:$Q$24,0)),"")
A23: 15 | B23: =IFERROR(INDEX(Scorecard!$B$5:$B$24,MATCH($A23,Scorecard!$Q$5:$Q$24,0))&"","") | C23: =IFERROR(INDEX(Scorecard!$D$5:$D$24,MATCH($A23,Scorecard!$Q$5:$Q$24,0))&"","") | D23: =IFERROR(INDEX(Scorecard!$J$5:$J$24,MATCH($A23,Scorecard!$Q$5:$Q$24,0)),"") | E23: =IFERROR(INDEX(Scorecard!$L$5:$L$24,MATCH($A23,Scorecard!$Q$5:$Q$24,0)),"") | F23: =IFERROR(INDEX(Scorecard!$M$5:$M$24,MATCH($A23,Scorecard!$Q$5:$Q$24,0)),"")
A24: 16 | B24: =IFERROR(INDEX(Scorecard!$B$5:$B$24,MATCH($A24,Scorecard!$Q$5:$Q$24,0))&"","") | C24: =IFERROR(INDEX(Scorecard!$D$5:$D$24,MATCH($A24,Scorecard!$Q$5:$Q$24,0))&"","") | D24: =IFERROR(INDEX(Scorecard!$J$5:$J$24,MATCH($A24,Scorecard!$Q$5:$Q$24,0)),"") | E24: =IFERROR(INDEX(Scorecard!$L$5:$L$24,MATCH($A24,Scorecard!$Q$5:$Q$24,0)),"") | F24: =IFERROR(INDEX(Scorecard!$M$5:$M$24,MATCH($A24,Scorecard!$Q$5:$Q$24,0)),"")
A25: 17 | B25: =IFERROR(INDEX(Scorecard!$B$5:$B$24,MATCH($A25,Scorecard!$Q$5:$Q$24,0))&"","") | C25: =IFERROR(INDEX(Scorecard!$D$5:$D$24,MATCH($A25,Scorecard!$Q$5:$Q$24,0))&"","") | D25: =IFERROR(INDEX(Scorecard!$J$5:$J$24,MATCH($A25,Scorecard!$Q$5:$Q$24,0)),"") | E25: =IFERROR(INDEX(Scorecard!$L$5:$L$24,MATCH($A25,Scorecard!$Q$5:$Q$24,0)),"") | F25: =IFERROR(INDEX(Scorecard!$M$5:$M$24,MATCH($A25,Scorecard!$Q$5:$Q$24,0)),"")
A26: 18 | B26: =IFERROR(INDEX(Scorecard!$B$5:$B$24,MATCH($A26,Scorecard!$Q$5:$Q$24,0))&"","") | C26: =IFERROR(INDEX(Scorecard!$D$5:$D$24,MATCH($A26,Scorecard!$Q$5:$Q$24,0))&"","") | D26: =IFERROR(INDEX(Scorecard!$J$5:$J$24,MATCH($A26,Scorecard!$Q$5:$Q$24,0)),"") | E26: =IFERROR(INDEX(Scorecard!$L$5:$L$24,MATCH($A26,Scorecard!$Q$5:$Q$24,0)),"") | F26: =IFERROR(INDEX(Scorecard!$M$5:$M$24,MATCH($A26,Scorecard!$Q$5:$Q$24,0)),"")
A27: 19 | B27: =IFERROR(INDEX(Scorecard!$B$5:$B$24,MATCH($A27,Scorecard!$Q$5:$Q$24,0))&"","") | C27: =IFERROR(INDEX(Scorecard!$D$5:$D$24,MATCH($A27,Scorecard!$Q$5:$Q$24,0))&"","") | D27: =IFERROR(INDEX(Scorecard!$J$5:$J$24,MATCH($A27,Scorecard!$Q$5:$Q$24,0)),"") | E27: =IFERROR(INDEX(Scorecard!$L$5:$L$24,MATCH($A27,Scorecard!$Q$5:$Q$24,0)),"") | F27: =IFERROR(INDEX(Scorecard!$M$5:$M$24,MATCH($A27,Scorecard!$Q$5:$Q$24,0)),"")
A28: 20 | B28: =IFERROR(INDEX(Scorecard!$B$5:$B$24,MATCH($A28,Scorecard!$Q$5:$Q$24,0))&"","") | C28: =IFERROR(INDEX(Scorecard!$D$5:$D$24,MATCH($A28,Scorecard!$Q$5:$Q$24,0))&"","") | D28: =IFERROR(INDEX(Scorecard!$J$5:$J$24,MATCH($A28,Scorecard!$Q$5:$Q$24,0)),"") | E28: =IFERROR(INDEX(Scorecard!$L$5:$L$24,MATCH($A28,Scorecard!$Q$5:$Q$24,0)),"") | F28: =IFERROR(INDEX(Scorecard!$M$5:$M$24,MATCH($A28,Scorecard!$Q$5:$Q$24,0)),"")
A30: Add 10 new names (next-ranked candidates after your top 20)
A31: Rank | B31: Candidate | C31: Partner type | D31: Score
A32: 21 | B32: =IFERROR(INDEX(Candidates!$B$5:$B$44,MATCH($A32,Candidates!$H$5:$H$44,0))&"","") | C32: =IFERROR(INDEX(Candidates!$D$5:$D$44,MATCH($A32,Candidates!$H$5:$H$44,0))&"","") | D32: =IFERROR(INDEX(Candidates!$G$5:$G$44,MATCH($A32,Candidates!$H$5:$H$44,0)),"")
A33: 22 | B33: =IFERROR(INDEX(Candidates!$B$5:$B$44,MATCH($A33,Candidates!$H$5:$H$44,0))&"","") | C33: =IFERROR(INDEX(Candidates!$D$5:$D$44,MATCH($A33,Candidates!$H$5:$H$44,0))&"","") | D33: =IFERROR(INDEX(Candidates!$G$5:$G$44,MATCH($A33,Candidates!$H$5:$H$44,0)),"")
A34: 23 | B34: =IFERROR(INDEX(Candidates!$B$5:$B$44,MATCH($A34,Candidates!$H$5:$H$44,0))&"","") | C34: =IFERROR(INDEX(Candidates!$D$5:$D$44,MATCH($A34,Candidates!$H$5:$H$44,0))&"","") | D34: =IFERROR(INDEX(Candidates!$G$5:$G$44,MATCH($A34,Candidates!$H$5:$H$44,0)),"")
A35: 24 | B35: =IFERROR(INDEX(Candidates!$B$5:$B$44,MATCH($A35,Candidates!$H$5:$H$44,0))&"","") | C35: =IFERROR(INDEX(Candidates!$D$5:$D$44,MATCH($A35,Candidates!$H$5:$H$44,0))&"","") | D35: =IFERROR(INDEX(Candidates!$G$5:$G$44,MATCH($A35,Candidates!$H$5:$H$44,0)),"")
A36: 25 | B36: =IFERROR(INDEX(Candidates!$B$5:$B$44,MATCH($A36,Candidates!$H$5:$H$44,0))&"","") | C36: =IFERROR(INDEX(Candidates!$D$5:$D$44,MATCH($A36,Candidates!$H$5:$H$44,0))&"","") | D36: =IFERROR(INDEX(Candidates!$G$5:$G$44,MATCH($A36,Candidates!$H$5:$H$44,0)),"")
A37: 26 | B37: =IFERROR(INDEX(Candidates!$B$5:$B$44,MATCH($A37,Candidates!$H$5:$H$44,0))&"","") | C37: =IFERROR(INDEX(Candidates!$D$5:$D$44,MATCH($A37,Candidates!$H$5:$H$44,0))&"","") | D37: =IFERROR(INDEX(Candidates!$G$5:$G$44,MATCH($A37,Candidates!$H$5:$H$44,0)),"")
A38: 27 | B38: =IFERROR(INDEX(Candidates!$B$5:$B$44,MATCH($A38,Candidates!$H$5:$H$44,0))&"","") | C38: =IFERROR(INDEX(Candidates!$D$5:$D$44,MATCH($A38,Candidates!$H$5:$H$44,0))&"","") | D38: =IFERROR(INDEX(Candidates!$G$5:$G$44,MATCH($A38,Candidates!$H$5:$H$44,0)),"")
A39: 28 | B39: =IFERROR(INDEX(Candidates!$B$5:$B$44,MATCH($A39,Candidates!$H$5:$H$44,0))&"","") | C39: =IFERROR(INDEX(Candidates!$D$5:$D$44,MATCH($A39,Candidates!$H$5:$H$44,0))&"","") | D39: =IFERROR(INDEX(Candidates!$G$5:$G$44,MATCH($A39,Candidates!$H$5:$H$44,0)),"")
A40: 29 | B40: =IFERROR(INDEX(Candidates!$B$5:$B$44,MATCH($A40,Candidates!$H$5:$H$44,0))&"","") | C40: =IFERROR(INDEX(Candidates!$D$5:$D$44,MATCH($A40,Candidates!$H$5:$H$44,0))&"","") | D40: =IFERROR(INDEX(Candidates!$G$5:$G$44,MATCH($A40,Candidates!$H$5:$H$44,0)),"")
A41: 30 | B41: =IFERROR(INDEX(Candidates!$B$5:$B$44,MATCH($A41,Candidates!$H$5:$H$44,0))&"","") | C41: =IFERROR(INDEX(Candidates!$D$5:$D$44,MATCH($A41,Candidates!$H$5:$H$44,0))&"","") | D41: =IFERROR(INDEX(Candidates!$G$5:$G$44,MATCH($A41,Candidates!$H$5:$H$44,0)),"")
